BEGIN:VCALENDAR
VERSION:2.0
PRODID:-//BOLD PUBLIC HEALTH CENTER OF EXCELLENCE - ECPv6.13.2.1//NONSGML v1.0//EN
CALSCALE:GREGORIAN
METHOD:PUBLISH
X-ORIGINAL-URL:https://bolddementiadetection.org
X-WR-CALDESC:Events for BOLD PUBLIC HEALTH CENTER OF EXCELLENCE
REFRESH-INTERVAL;VALUE=DURATION:PT1H
X-Robots-Tag:noindex
X-PUBLISHED-TTL:PT1H
BEGIN:VTIMEZONE
TZID:America/New_York
BEGIN:DAYLIGHT
TZOFFSETFROM:-0500
TZOFFSETTO:-0400
TZNAME:EDT
DTSTART:20260308T070000
END:DAYLIGHT
BEGIN:STANDARD
TZOFFSETFROM:-0400
TZOFFSETTO:-0500
TZNAME:EST
DTSTART:20261101T060000
END:STANDARD
END:VTIMEZONE
BEGIN:VEVENT
DTSTART;TZID=America/New_York:20260521T140000
DTEND;TZID=America/New_York:20260521T150000
DTSTAMP:20260424T161919
CREATED:20260422T154534Z
LAST-MODIFIED:20260422T154534Z
UID:3956-1779372000-1779375600@bolddementiadetection.org
SUMMARY:What Does it Mean and How Do We Measure Quality in Dementia Care?
DESCRIPTION:We invite you to a free\, interactive webinar to answer your questions about measuring quality in dementia care. \nHow do we know when healthcare professionals are providing quality dementia care? There is a significant need for improved measurement tools to assess quality in dementia care and to improve it. Join this expert panel and the conversation as we discuss how we can reach consensus on high-quality dementia care. \nAs a starting point for our interactive\, virtual conversation\, the panelists recently published a paper on this topic. We encourage you to review when posing your own questions and thoughts during our upcoming Minnesota Northstar Geriatric Workforce Enhancement Program Dementia Q&A Webinar. \nRead the Paper\ndoi:10.1002/alz.70154 \nIf you are living with dementia\, or are a family member\, friend\, or professional with questions about how we assess and achieve quality dementia care\, this webinar is for you! Please share with others who may be interested. \nDon’t miss this opportunity to learn more and ask your questions!
URL:https://bolddementiadetection.org/event/what-does-it-mean-and-how-do-we-measure-quality-in-dementia-care/
END:VEVENT
END:VCALENDAR